BEGIN:VCALENDAR
VERSION:2.0
PRODID:-//ChamberMaster//Event Calendar 2.0//EN
METHOD:PUBLISH
X-PUBLISHED-TTL:P3D
REFRESH-INTERVAL:P3D
CALSCALE:GREGORIAN
BEGIN:VEVENT
DTSTART:20160526T173000Z
DTEND:20160526T190000Z
X-MICROSOFT-CDO-ALLDAYEVENT:FALSE
SUMMARY:Education Workshop - Google Maps
DESCRIPTION:Let's Put Conifer on the Map!\n\npresented by \n\nDave Peterson\, Marketing Type Guys\n\n \n\nCome hear how you can join the Google campaign to get your business noticed.  Find out ways to improve your online presence and attract customers.\n\n \n\nBusinesses with complete information online are twice as likely to be considered reputable by consumers. When people can find info about local dentists\, dry cleaners\, and your business\, our community becomes even stronger.\n\n\n\nDavid Peterson's background includes over 10 years as co-owner and CTO of Voyageur I.T.\, a web development\, hosting and marketing service provider he founded in 1996. Prior to Voyageur I.T. he co-owned two other technology related businesses in Minnesota. He holds a B.A. in Finance from the University of St. Thomas in Saint Paul\, MN.
X-ALT-DESC;FMTTYPE=text/html:<span style="font-weight:bold\;letter-spacing:-0.3pt\;"><span style="font-family:myriad pro\;"><span style="font-size:20pt\;">Let&rsquo\;s Put Conifer on the Map!</span></span></span><br />\n<span style="font-style:italic\;letter-spacing:-0.3pt\;"><span style="font-family:myriad pro\;">presented by </span></span><br />\n<span style="letter-spacing:-0.3pt\;"><span style="font-family:myriad pro\;"><span style="font-size:14pt\;">Dave Peterson\, Marketing Type Guys</span></span></span><br />\n&nbsp\;<br />\n<span style="language:en-US\;"><span style="font-family:myriad pro\;"><span style="font-size:14.0pt\;">Come hear how you can join the Google campaign to get your business noticed. &nbsp\;</span></span></span><span style="language:en-US\;"><span style="font-family:myriad pro\;"><span style="font-size:14.0pt\;">Find out ways to improve your online presence and attract customers.</span></span></span><br />\n&nbsp\;<br />\n<span style="letter-spacing:-.25pt\;language:en-US\;"><span style="font-family:myriad pro\;"><span style="font-size:12.0pt\;">Businesses with complete information online are twice as likely to be considered reputable by consumers. When people can find info about local dentists\, dry cleaners\, and your business\, </span></span></span><span style="letter-spacing:-.25pt\;language:en-US\;"><span style="font-family:myriad pro\;"><span style="font-size:12.0pt\;">our community becomes even stronger.</span></span></span><br />\n<br />\nDavid Peterson&rsquo\;s background includes over 10 years as co-owner and CTO of Voyageur I.T.\, a web development\, hosting and marketing service provider he founded in 1996. Prior to Voyageur I.T. he co-owned two other technology related businesses in Minnesota. He holds a B.A. in Finance from the University of St. Thomas in Saint Paul\, MN.&nbsp\;
LOCATION:Conifer Community Church 9998 S Havekost Rd Conifer\, CO
UID:e.692.18828
SEQUENCE:3
DTSTAMP:20260421T213233Z
URL:https://business.goconifer.com/events/details/education-workshop-google-maps-05-26-2016-18828
END:VEVENT

END:VCALENDAR
