BEGIN:VCALENDAR
VERSION:2.0
PRODID:-//ChamberMaster//Event Calendar 2.0//EN
METHOD:PUBLISH
X-PUBLISHED-TTL:P3D
REFRESH-INTERVAL:P3D
CALSCALE:GREGORIAN
BEGIN:VEVENT
DTSTART:20130521T140000Z
DTEND:20130521T220000Z
X-MICROSOFT-CDO-ALLDAYEVENT:FALSE
SUMMARY:EChO Jobs Workshop
DESCRIPTION:Looking for a job?  Attend one of EChO Jobs Center's amazing workshops designed to assist Job Seekers gain employment.  The Job Seekers Workshops are held monthly at the Douglas Hall on the EChO campus located at 27640 Highway 74.  (Next workshops June 13\, July 16 and August 20)\n\n	Visit our website at http://echojobs.org .  Contact the EChO Office at 303-670-1796 with questions or register for a workshop. Food\, refreshments and course materials are provided. Individuals interested in volunteering in this program are encouraged to contact EChO's Volunteer Coordinator\, Mary Petrich\, at 303-670-1796.
X-ALT-DESC;FMTTYPE=text/html:<p class="MsoNormal">\n	Looking for a job?&nbsp\; A<span style="color: rgb(0\, 0\, 51)\; font-family: &quot\;Arial&quot\;\,&quot\;sans-serif&quot\;\; font-size: 10pt\; mso-fareast-font-family: &quot\;Times New Roman&quot\;\;">ttend one of EChO Jobs Center&rsquo\;s amazing workshops designed to assist Job Seekers gain employment.&nbsp\; The Job Seekers Workshops are held monthly at the Douglas Hall on the EChO campus located at 27640 Highway 74. &nbsp\;(Next workshops June 13\, July 16 and August 20)<o:p></o:p></span></p>\n<p class="MsoNormal">\n	<span style="color: rgb(0\, 0\, 51)\; font-family: &quot\;Arial&quot\;\,&quot\;sans-serif&quot\;\; font-size: 10pt\; mso-fareast-font-family: &quot\;Times New Roman&quot\;\;">Visit our website at</span><span style="color: rgb(0\, 0\, 51)\; font-family: &quot\;Arial&quot\;\,&quot\;sans-serif&quot\;\; font-size: 10pt\; mso-fareast-font-family: &quot\;Times New Roman&quot\;\; mso-bidi-font-size: 11.0pt\;">&nbsp\;</span><span style="color: rgb(0\, 0\, 51)\; font-family: &quot\;Arial&quot\;\,&quot\;sans-serif&quot\;\; font-size: 10pt\; mso-fareast-font-family: &quot\;Times New Roman&quot\;\;"><a href="http://echojobs.org/" target="_default"><span style="color: red\; text-decoration: none\; mso-bidi-font-size: 11.0pt\; text-underline: none\;">http://echojobs.org .</span></a>&nbsp\; Contact the EChO Office at 303-670-1796 with questions or register for a workshop. Food\, refreshments and course materials are provided. Individuals interested in volunteering in this program are encouraged to contact EChO&rsquo\;s Volunteer Coordinator\, Mary Petrich\, at 303-670-1796.<o:p></o:p></span></p>\n
LOCATION:Douglas Hall on the EChO campus located at 27640 Highway 74
UID:e.692.1470
SEQUENCE:3
DTSTAMP:20260424T055224Z
URL:https://business.goconifer.com/events/details/echo-jobs-workshop-05-21-2013-1470
END:VEVENT

END:VCALENDAR
