BEGIN:VCALENDAR
VERSION:2.0
PRODID:-//ChamberMaster//Event Calendar 2.0//EN
METHOD:PUBLISH
X-PUBLISHED-TTL:P3D
REFRESH-INTERVAL:P3D
CALSCALE:GREGORIAN
BEGIN:VEVENT
DTSTART:20140413T180000Z
DTEND:20140413T200000Z
X-MICROSOFT-CDO-ALLDAYEVENT:FALSE
SUMMARY:eBook Drop-In Help at Conifer Public Library
DESCRIPTION:Still having trouble downloading library books to your eReader? Come to one of our drop-in sessions\, and we'll see what we can do to get you reading! (Please bring cables\, laptop\, library card number and Adobe\, Amazon\, and iTunes account information.)
X-ALT-DESC;FMTTYPE=text/html:<span style="color: rgb(0\, 0\, 0)\; font-family: Arial\; font-size: 12px\; font-style: normal\; font-variant: normal\; font-weight: normal\; letter-spacing: normal\; line-height: normal\; orphans: auto\; text-align: left\; text-indent: 0px\; text-transform: none\; white-space: normal\; widows: auto\; word-spacing: 0px\; -webkit-text-stroke-width: 0px\; background-color: rgb(255\, 255\, 255)\; display: inline !important\; float: none\;">Still having trouble downloading library books to your eReader? Come to one of our drop-in sessions\, and we&#39\;ll see what we can do to get you reading! (Please bring cables\, laptop\, library card number and Adobe\, Amazon\, and iTunes account information.)</span>
LOCATION:Conifer Public Library located within Conifer High School
UID:e.692.2875
SEQUENCE:3
DTSTAMP:20260423T155807Z
URL:https://business.goconifer.com/events/details/ebook-drop-in-help-at-conifer-public-library-04-13-2014-2875
END:VEVENT

END:VCALENDAR
