BEGIN:VCALENDAR
VERSION:2.0
PRODID:-//ChamberMaster//Event Calendar 2.0//EN
METHOD:PUBLISH
X-PUBLISHED-TTL:P3D
REFRESH-INTERVAL:P3D
CALSCALE:GREGORIAN
BEGIN:VEVENT
DTSTART:20120417T003000Z
DTEND:20120421T220000Z
X-MICROSOFT-CDO-ALLDAYEVENT:FALSE
SUMMARY:Earth Week 2012 and the 23rd Annual Mountain Area Earth Day Fair
DESCRIPTION:Earth Week 2012 will culminate in the annual celebration at Evergreen Lake\n\n\n\nThis year's Earth Week will kick off a series of events ranging from a Children's evening to a featured speaker evening:\n\nApril 16 - EAS+Y will host the "Evergreen Community Gardens Town Hall Meeting"\n\nApril 17 - EAS+Y will kick off their 'Bring Your Own Bag' Campaign with the screening of the "Bag It" movie\n\nApril 18 - Evergreen Audubon's president Dr. Brad A. Anders will present "An Arctic Treasure - The Teshekpuk Lake Region of Northern Alaska"\n\nApril 19 - Evergreen 350.org will host a Double Feature Speaker Night with sustainable development experts L. Hunter Lovins and William S. Becker\n\nApril 20 - Earth Day & Beyond will host "EarthKids - A Children's Night" with authors Lynne Cherry and Marc Bekoff\, live music by Dakota Blonde\, activities by Golden High School and the Young Voices For The Planet short films\n\n\n\nThis event series will culminate in one of Evergreen's classic family festivals with the familiar exhibition hall in & outside the Lake House:\n\n\n\nJoin us at the 23rd Annual Mounatin Area Earth Day Fair from 10  to 4 on Saturday\, April 21 at the Evergreen lake house.  Shuttle Parking will be available at the Wulf Recreation Center.\n\n\n\nGrowing since 1990 and now one of the largest and most popular Earth Day celebrations in Colorado\, the fair regularly features over 50 nonprofit organizations\, businesses and agencies.  Up-to-date information on critical issues will be available for open discussion and to take home.  A warming tent will provide space for additional exhibitions and live presentations.  HawkQuest will ahain present its live raptors\, by now a well anticipated tradition for this festival.\n\n\n\nWhile you are at Evergreen lake be sure to visit the historic Warming Hut\, home to the Evergreen Nature Center which is operated by Evergreen Audubon.  The Nature Center will holds its grand opening the same day with numerous children's activities "Fluffed Up For Spring" focused on the Bear Creek Watershed.  If you cannot make Friday's event\, Lynne Cherry will be back to read and sign her fabulous books and to share her Young Voices For The Planet short films.\n\n\n\nEarth Day & Beyond is a small group of Mountain Area residents.  Local high school students have taken on various planning and hosting tasks.  Our major sponsors are EPRD\, Evergreen Newspapers\, Evergreen Audubon\, the Rotary Club of Evergreen\, the Evergreen Chamber of Commerce\, Evergreen Sun Power\, The Evergreen Wild Bird Store\, the University of the Wilderness\, Natural Capitalism Solutions and Dakota Blonde.
X-ALT-DESC;FMTTYPE=text/html:Earth Week 2012 will culminate in the annual celebration at Evergreen Lake<br />\n<br />\nThis year&#39\;s Earth Week will kick off a series of events ranging from a Children&#39\;s evening to a featured speaker evening:<br />\nApril 16 - EAS+Y will host the &quot\;Evergreen Community Gardens Town Hall Meeting&quot\;<br />\nApril 17 - EAS+Y will kick off their &#39\;Bring Your Own Bag&#39\; Campaign with the screening of the &quot\;Bag It&quot\; movie<br />\nApril 18 - Evergreen Audubon&#39\;s president Dr. Brad A. Anders will present &quot\;An Arctic Treasure - The Teshekpuk Lake Region of Northern Alaska&quot\;<br />\nApril 19 - Evergreen 350.org will host a Double Feature Speaker Night with sustainable development experts L. Hunter Lovins and William S. Becker<br />\nApril 20 - Earth Day &amp\; Beyond will host &quot\;EarthKids - A Children&#39\;s Night&quot\; with authors Lynne Cherry and Marc Bekoff\, live music by Dakota Blonde\, activities by Golden High School and the Young Voices For The Planet short films<br />\n<br />\nThis event series will culminate in one of Evergreen&#39\;s classic family festivals with the familiar exhibition hall in &amp\; outside the Lake House:<br />\n<br />\nJoin us at the 23rd Annual Mounatin Area Earth Day Fair from 10&nbsp\; to 4 on Saturday\, April 21 at the Evergreen lake house.&nbsp\; Shuttle Parking will be available at the Wulf Recreation Center.<br />\n<br />\nGrowing since 1990 and now one of the largest and most popular Earth Day celebrations in Colorado\, the fair regularly features over 50 nonprofit organizations\, businesses and agencies.&nbsp\; Up-to-date information on critical issues will be available for open discussion and to take home.&nbsp\; A warming tent will provide space for additional exhibitions and live presentations.&nbsp\; HawkQuest will ahain present its live raptors\, by now a well anticipated tradition for this festival.<br />\n<br />\nWhile you are at Evergreen lake be sure to visit the historic Warming Hut\, home to the Evergreen Nature Center which is operated by Evergreen Audubon.&nbsp\; The Nature Center will holds its grand opening the same day with numerous children&#39\;s activities &quot\;Fluffed Up For Spring&quot\; focused on the Bear Creek Watershed.&nbsp\; If you cannot make Friday&#39\;s event\, Lynne Cherry will be back to read and sign her fabulous books and to share her Young Voices For The Planet short films.<br />\n<br />\nEarth Day &amp\; Beyond is a small group of Mountain Area residents.&nbsp\; Local high school students have taken on various planning and hosting tasks.&nbsp\; Our major sponsors are EPRD\, Evergreen Newspapers\, Evergreen Audubon\, the Rotary Club of Evergreen\, the Evergreen Chamber of Commerce\, Evergreen Sun Power\, The Evergreen Wild Bird Store\, the University of the Wilderness\, Natural Capitalism Solutions and Dakota Blonde.
LOCATION:April 16: Buchanan Recreation Center April 17 - 20: Bergen Fire House April 21: Evergreen Lake House
UID:e.692.1248
SEQUENCE:3
DTSTAMP:20260425T003907Z
URL:https://business.goconifer.com/events/details/earth-week-2012-and-the-23rd-annual-mountain-area-earth-day-fair-04-16-2012-1248
END:VEVENT

END:VCALENDAR
