BEGIN:VCALENDAR
VERSION:2.0
PRODID:-//ChamberMaster//Event Calendar 2.0//EN
METHOD:PUBLISH
X-PUBLISHED-TTL:P3D
REFRESH-INTERVAL:P3D
CALSCALE:GREGORIAN
BEGIN:VEVENT
DTSTART;VALUE=DATE:20120907
DTEND;VALUE=DATE:20120908
TRANSP:TRANSPARENT
X-MICROSOFT-CDO-ALLDAYEVENT:TRUE
SUMMARY:EAPL's 8th Annual OktoberPets
DESCRIPTION:Mark your calendars and plan on joining us for EAPL's 8th Annual OktoberPets event.  This year we will feature a NEW German themed buffet\, a new band\, and lots of new and exciting items to bid on.  There are local merchants\, personals services\, pet related items\, sports packages\, vacation homes\, and so much more. There is also a cash bar available!  \n\n	\n\n	More details and information will be updated on www.eapl.com.\n\n	\n\n	Advance tickets sales will be available starting August 4th at Healthy Pet Food Supply in Conifer\, Chow Down Pet Supply in Bergen Park and at any of the EAPL adoption events!  Tickets will also be available the night of the event.
X-ALT-DESC;FMTTYPE=text/html:<p class="MsoNormal" style="margin: 0in 0in 10pt">\n	<span lang="EN" style="line-height: 115%\; font-family: 'arial'\, 'sans-serif'\; color: #222222\; font-size: 9pt\; mso-ansi-language: en">Mark&nbsp\;your calendars and plan on joining us for&nbsp\;EAPL&#39\;s 8th Annual OktoberPets event.&nbsp\; This year we will feature a&nbsp\;NEW German themed buffet\, a new band\, and lots of new and exciting items to bid on.&nbsp\; There are local merchants\, personals services\, pet related items\, sports packages\, vacation homes\, and so much more. There is also a cash bar available!&nbsp\;&nbsp\;<br />\n	<br />\n	More details and information will be updated on <a href="http://www.eapl.com/"><font color="#0000ff">www.eapl.com</font></a>.<br />\n	<br />\n	Advance tickets sales will be available starting August 4th at Healthy Pet Food Supply&nbsp\;in Conifer\, Chow Down Pet Supply&nbsp\;in Bergen Park&nbsp\;and at any of the EAPL adoption events!&nbsp\; Tickets will also be available the night of the event.</span></p>\n
LOCATION:Elks Lodge\, 27972 Iris Drive\, Evergreen\, CO
UID:e.692.1321
SEQUENCE:3
DTSTAMP:20260424T172221Z
URL:https://business.goconifer.com/events/details/eapl-s-8th-annual-oktoberpets-09-07-2012-1321
END:VEVENT

END:VCALENDAR
