BEGIN:VCALENDAR
VERSION:2.0
PRODID:-//ChamberMaster//Event Calendar 2.0//EN
METHOD:PUBLISH
X-PUBLISHED-TTL:P3D
REFRESH-INTERVAL:P3D
CALSCALE:GREGORIAN
BEGIN:VEVENT
DTSTART:20100527T230000Z
DTEND:20100528T010000Z
X-MICROSOFT-CDO-ALLDAYEVENT:FALSE
SUMMARY:EACC's Incline Kick-Off Mixer!
DESCRIPTION:Evergreen Area Chamber of Commerce has founded a new young professionals networking group called Incline and we're kicking off on May 27th at the Stagecoach Sports Grill in Evergreen!  Stagecoach is providing a full buffet and drink specials: $2.50 wells\, beer and house wine!  (Best drink specials in town!)
X-ALT-DESC;FMTTYPE=text/html:Evergreen Area Chamber of Commerce has founded a new young professionals networking group called Incline and we're kicking off on May 27th at the Stagecoach Sports Grill in Evergreen!  Stagecoach is providing a full buffet and drink specials: $2.50 wells\, beer and house wine!  (Best drink specials in town!)
LOCATION:Stagecoach Sports Grill 30790 Stagecoach Blvd. Suite 101 Evergreen\, CO\, 80439
UID:e.692.420
SEQUENCE:3
DTSTAMP:20260424T112327Z
URL:https://business.goconifer.com/events/details/eacc-s-incline-kick-off-mixer-05-27-2010-420
END:VEVENT

END:VCALENDAR
