BEGIN:VCALENDAR
VERSION:2.0
PRODID:-//ChamberMaster//Event Calendar 2.0//EN
METHOD:PUBLISH
X-PUBLISHED-TTL:P3D
REFRESH-INTERVAL:P3D
CALSCALE:GREGORIAN
BEGIN:VEVENT
DTSTART:20250416T233000Z
DTEND:20250417T003000Z
X-MICROSOFT-CDO-ALLDAYEVENT:FALSE
SUMMARY:Dru Yoga
DESCRIPTION:Dru has a focus upon maintaining a healthy spine\, through activational movements in the beginning of class and throughout a Dru session. A typical Dru Yoga class includes Energy Block Release Sequences\, classical Asanas (yoga postures) Pranayama (breath work)\, Mudras (gestures)\, positive affirmations\, and also empowering visualizations. Dru classes are tailored to the student and their individual level which makes it great for everyone.
X-ALT-DESC;FMTTYPE=text/html:<span style="color:rgb(34\, 34\, 34)\; font-family:arial\,sans-serif\; font-size:small">Dru&nbsp\;has a focus upon maintaining a healthy spine\, through activational movements in the beginning of class and throughout a&nbsp\;Dru&nbsp\;session. A typical&nbsp\;Dru&nbsp\;Yoga&nbsp\;class includes Energy Block Release Sequences\, classical Asanas (yoga&nbsp\;postures) Pranayama (breath work)\, Mudras (gestures)\, positive affirmations\, and also empowering visualizations.&nbsp\;Dru&nbsp\;classes are tailored to the student and their individual level which makes it great for everyone.</span>
LOCATION:Taspens 25797 Conifer Rd C-130 Conifer CO 80433
UID:e.692.46788
SEQUENCE:3
DTSTAMP:20260426T010249Z
URL:https://business.goconifer.com/events/details/dru-yoga-04-16-2025-46788
END:VEVENT

END:VCALENDAR
