BEGIN:VCALENDAR
VERSION:2.0
PRODID:-//ChamberMaster//Event Calendar 2.0//EN
METHOD:PUBLISH
X-PUBLISHED-TTL:P3D
REFRESH-INTERVAL:P3D
CALSCALE:GREGORIAN
BEGIN:VEVENT
DTSTART;VALUE=DATE:20110812
DTEND;VALUE=DATE:20110815
TRANSP:TRANSPARENT
X-MICROSOFT-CDO-ALLDAYEVENT:TRUE
SUMMARY:DogCamps - camp with your dog at Conifer Community Park at Beaver Ranch
DESCRIPTION:DogCamp dog training\, socialization and campout or cabin stay for canines and their humans!\n\n\n\nBring your favorite 4-legged canine companions for a weekend of training\, doggie play and hiking with other dog-lovers and their families. Howl around the campfire circle at night and enjoy the great outdoors with your dog. $50 per family (including your dogs). Stay in our campground ($20 per tent per night) or one of our rustic camper cabins ($100 for two nights).\n\n\n\nArrive at the campground at noon on August 12.
X-ALT-DESC;FMTTYPE=text/html:DogCamp dog training\, socialization and campout or cabin stay for canines and their humans!\n<br>\n<br>Bring your favorite 4-legged canine companions for a weekend of training\, doggie play and hiking with other dog-lovers and their families. Howl around the campfire circle at night and enjoy the great outdoors with your dog. $50 per family (including your dogs). Stay in our campground ($20 per tent per night) or one of our rustic camper cabins ($100 for two nights).\n<br>\n<br>Arrive at the campground at noon on August 12. 
LOCATION:Conifer Community Park at Beaver Ranch 11369 S. Foxton Road Conifer\, CO 80433
UID:e.692.1135
SEQUENCE:3
DTSTAMP:20260425T113106Z
URL:https://business.goconifer.com/events/details/dogcamps-camp-with-your-dog-at-conifer-community-park-at-beaver-ranch-08-12-2011-1135
END:VEVENT

END:VCALENDAR
