BEGIN:VCALENDAR
VERSION:2.0
PRODID:-//ChamberMaster//Event Calendar 2.0//EN
METHOD:PUBLISH
X-PUBLISHED-TTL:P3D
REFRESH-INTERVAL:P3D
CALSCALE:GREGORIAN
BEGIN:VEVENT
DTSTART:20140802T170000Z
DTEND:20140802T220000Z
X-MICROSOFT-CDO-ALLDAYEVENT:FALSE
SUMMARY:Dam Ducky Derby
DESCRIPTION:Food\, Give aways\, Music\, Games for the entire famly DUCK DROP 1pm at the DAM Cash Prizes for the first 3 winning ducks Prizes for the runners (floaters) up
X-ALT-DESC;FMTTYPE=text/html:Food\, Give aways\, Music\, Games for the entire famly DUCK DROP 1pm at the DAM Cash Prizes for the first 3 winning ducks Prizes for the runners (floaters) up
LOCATION:Downtown Evergreen
UID:e.692.3043
SEQUENCE:3
DTSTAMP:20260423T091230Z
URL:https://business.goconifer.com/events/details/dam-ducky-derby-08-02-2014-3043
END:VEVENT

END:VCALENDAR
