BEGIN:VCALENDAR
VERSION:2.0
PRODID:-//ChamberMaster//Event Calendar 2.0//EN
METHOD:PUBLISH
X-PUBLISHED-TTL:P3D
REFRESH-INTERVAL:P3D
CALSCALE:GREGORIAN
BEGIN:VEVENT
DTSTART:20100429T133000Z
DTEND:20100429T150000Z
X-MICROSOFT-CDO-ALLDAYEVENT:FALSE
SUMMARY:CURB (Chamber Using Referral Business)
DESCRIPTION:CURB (Chamber Using Referral Business) meeting
X-ALT-DESC;FMTTYPE=text/html:<div>CURB&nbsp\;(Chamber Using Referral Business) meeting</div>
LOCATION:Aspen Perk Coffee
UID:e.692.297
SEQUENCE:3
DTSTAMP:20260424T095629Z
URL:https://business.goconifer.com/events/details/curb-chamber-using-referral-business-04-29-2010-297
END:VEVENT

END:VCALENDAR
