BEGIN:VCALENDAR
VERSION:2.0
PRODID:-//ChamberMaster//Event Calendar 2.0//EN
METHOD:PUBLISH
X-PUBLISHED-TTL:P3D
REFRESH-INTERVAL:P3D
CALSCALE:GREGORIAN
BEGIN:VEVENT
DTSTART:20100408T133000Z
DTEND:20100408T150000Z
X-MICROSOFT-CDO-ALLDAYEVENT:FALSE
SUMMARY:CURB (Chamber Using Referral Business)
DESCRIPTION:CURB (Chamber Using Referral Business) meeting
X-ALT-DESC;FMTTYPE=text/html:<div>CURB&nbsp\;(Chamber Using Referral Business) meeting</div>
LOCATION:Aspen Perk Coffee
UID:e.692.294
SEQUENCE:3
DTSTAMP:20260424T112235Z
URL:https://business.goconifer.com/events/details/curb-chamber-using-referral-business-04-08-2010-294
END:VEVENT

END:VCALENDAR
