BEGIN:VCALENDAR
VERSION:2.0
PRODID:-//ChamberMaster//Event Calendar 2.0//EN
METHOD:PUBLISH
X-PUBLISHED-TTL:P3D
REFRESH-INTERVAL:P3D
CALSCALE:GREGORIAN
BEGIN:VEVENT
DTSTART:20130824T180000Z
DTEND:20130825T000000Z
X-MICROSOFT-CDO-ALLDAYEVENT:FALSE
SUMMARY:Craft Festival
DESCRIPTION:We are having our Craft Festival on August 24th from 12pm to 4pm. We have live music plus additional 24 vendors outside besides our 27 inside the store. A great selection of all Local artist and Craftsmen from all over Colorado!! \n\nPlease Support your local Artists and Craftsmen!!\n\nYou wont be disappointed!!! See ya soon!!
X-ALT-DESC;FMTTYPE=text/html:We are having our Craft Festival on&nbsp\;August 24th from 12pm to 4pm. We have live music plus additional 24 vendors outside besides our 27 inside the store. A great selection of all Local artist and Craftsmen from all over Colorado!!&nbsp\;<br />\nPlease Support your local Artists and Craftsmen!!<br />\nYou wont be disappointed!!! See ya soon!!&nbsp\; 
LOCATION:Windy Point Next to the Stop for gas and Mexican Restaurant
UID:e.692.1500
SEQUENCE:3
DTSTAMP:20260424T015703Z
URL:https://business.goconifer.com/events/details/craft-festival-08-24-2013-1500
END:VEVENT

END:VCALENDAR
