BEGIN:VCALENDAR
VERSION:2.0
PRODID:-//ChamberMaster//Event Calendar 2.0//EN
METHOD:PUBLISH
X-PUBLISHED-TTL:P3D
REFRESH-INTERVAL:P3D
CALSCALE:GREGORIAN
BEGIN:VEVENT
DTSTART:20130829T163000Z
DTEND:20130829T180000Z
X-MICROSOFT-CDO-ALLDAYEVENT:FALSE
SUMMARY:Connect for Health Colorado?s New Health Care Marketplace
DESCRIPTION:Do you need help understanding the New Health Care Marketplace?\n\n\n\nComplimentary  Connect for Health Colorado's New Health Care Marketplace presentation \n\n	Location:  Evergreen Fire & Rescue community Center at 1802 Bergen Parkway in Evergreen\n\n	 \n\n	Seniors' Resource Center is hosting a complimentary On Thursday\, August 29th from 10:30a   12:00p. Teri Howard\, a Gerontologist with Later Life Advocates will be presenting will be presenting Connect for Health Colorado's New Health Care Marketplace for those 19   64 years of age. This fall\, Coloradans will have a new online shopping site and customer support network for purchasing health insurance. Financial assistance will be available to those who qualify based on income eligibility. \n\n	\n\n	Please RSVP to Melanie at 303-674-2843 x 302 or mnuchols@SRCaging.org
X-ALT-DESC;FMTTYPE=text/html:<font color="#000000"><font face="Calibri"><b><span style="font-size: 10pt\;">Do you need help understanding the New Health Care Marketplace?<br />\n<br />\nComplimentary&nbsp\;</span></b><span style="font-size: 10pt\;"> <b>Connect for Health Colorado&rsquo\;s New Health Care Marketplace presentation</b></span></font></font><font color="#000000" face="Times New Roman" size="3"> </font>\n<p class="MsoNormal" style="margin: 0in 0in 0pt\;">\n	<font color="#000000"><font face="Calibri"><b><span style="font-size: 10pt\;">Location: &nbsp\;Evergreen Fire &amp\; Rescue community Center at 1802 Bergen Parkway in Evergreen</span></b><o:p></o:p></font></font></p>\n<p class="MsoNormal" style="margin: 0in 0in 0pt\;">\n	<o:p><font color="#000000" face="Calibri" size="3">&nbsp\;</font></o:p></p>\n<p class="MsoNormal" style="margin: 0in 0in 0pt\;">\n	<font face="Calibri"><font color="#000000"><font size="3">Seniors&rsquo\; Resource Center is hosting a complimentary On Thursday\, August 29<sup><font size="2">th</font></sup><font size="3"> from 1</font><font size="3"><span style="color: rgb(31\, 73\, 125)\;">0</span><font color="#000000">:</font><font color="#000000">30</font><span style="color: rgb(31\, 73\, 125)\;">a</span><font color="#000000"> &ndash\; 12:</font><font color="#000000">00</font><span style="color: rgb(31\, 73\, 125)\;">p</span><span style="color: rgb(31\, 73\, 125)\;">.</span><font color="#000000"> Teri Howard\, a Gerontologist with Later Life Advocates will be presenting will be presenting <strong>Connect for Health Colorado&rsquo\;s New Health Care Marketplace</strong> for those 19 &ndash\; 64 years of age. This fall\, Coloradans will have a new online shopping site and customer support network for purchasing health insurance. Financial assistance will be available to those who qualify based on income eligibility.<o:p></o:p></font></font></font></font><font size="3"><font color="#000000"> </font></font></font><br />\n	<br />\n	<font color="#000000" face="Calibri" size="3">Please RSVP to Melanie at 303-674-2843 x 302 or </font><a href="mailto:mnuchols@SRCaging.org"><font color="#0000ff" face="Calibri" size="3">mnuchols@SRCaging.org</font></a><font size="3"><font color="#000000"><font face="Calibri"> <o:p></o:p></font></font></font><font color="#000000" face="Times New Roman" size="3"> </font></p>\n
LOCATION:Evergreen Fire & Rescue community Center at 1802 Bergen Parkway in Evergreen
UID:e.692.1512
SEQUENCE:3
DTSTAMP:20260424T032627Z
URL:https://business.goconifer.com/events/details/connect-for-health-colorado-s-new-health-care-marketplace-08-29-2013-1512
END:VEVENT

END:VCALENDAR
