BEGIN:VCALENDAR
VERSION:2.0
PRODID:-//ChamberMaster//Event Calendar 2.0//EN
METHOD:PUBLISH
X-PUBLISHED-TTL:P3D
REFRESH-INTERVAL:P3D
CALSCALE:GREGORIAN
BEGIN:VEVENT
DTSTART:20120927T220000Z
DTEND:20120928T010000Z
X-MICROSOFT-CDO-ALLDAYEVENT:FALSE
SUMMARY:Conifer's 3rd Annual OctoBEERfest!
DESCRIPTION:Conifer Area Chamber of Commerce presents the 3rd Annual OctoBEERfest at Brooks Place Tavern!
X-ALT-DESC;FMTTYPE=text/html:Conifer Area Chamber of Commerce presents the 3rd Annual OctoBEERfest at Brooks Place Tavern!
LOCATION:Brooks Place Tavern
UID:e.692.1301
SEQUENCE:3
DTSTAMP:20260424T172207Z
URL:https://business.goconifer.com/events/details/conifer-s-3rd-annual-octobeerfest-09-27-2012-1301
END:VEVENT

END:VCALENDAR
