BEGIN:VCALENDAR
VERSION:2.0
PRODID:-//ChamberMaster//Event Calendar 2.0//EN
METHOD:PUBLISH
X-PUBLISHED-TTL:P3D
REFRESH-INTERVAL:P3D
CALSCALE:GREGORIAN
BEGIN:VEVENT
DTSTART:20101028T220000Z
DTEND:20101029T010000Z
X-MICROSOFT-CDO-ALLDAYEVENT:FALSE
SUMMARY:Conifer OctoBEERfest
DESCRIPTION:Celebrate mankind's greatest invention with appetizers and tastings from Great Divide\, New Belgium\, Odell\, Tommy Knocker and other microbreweries.\n\n\n\nPresented by Morse Evergreen Auto Body\n\nSponsored by Hutchison Lumber\, Inc.\, Brook's Place Tavern and Colorado Pines Studios\, LLC.
X-ALT-DESC;FMTTYPE=text/html:<span style="font-size: 14px"><span style="font-size: 18px"><span style="color: #ff8c00"><strong>Celebrate mankind&#39\;s greatest invention </strong></span></span><span style="font-size: 16px">with appetizers and tastings from Great Divide\, New Belgium\, Odell\, Tommy Knocker and other microbreweries.</span></span><br />\n<br />\n<span style="font-size: 16px">Presented by Morse Evergreen Auto Body<br />\nSponsored by Hutchison Lumber\, Inc.\, Brook&#39\;s Place Tavern and Colorado Pines Studios\, LLC.</span><br />\n
LOCATION:Brook's Place Tavern 27175 Main Street (At the Safeway Center in Conifer) Overnight Lodging in the Area (based on availability) www.aspenpeakcellars.com www.MeadowCreekBB.com
UID:e.692.790
SEQUENCE:3
DTSTAMP:20260424T195128Z
URL:https://business.goconifer.com/events/details/conifer-octobeerfest-10-28-2010-790
END:VEVENT

END:VCALENDAR
