BEGIN:VCALENDAR
VERSION:2.0
PRODID:-//ChamberMaster//Event Calendar 2.0//EN
METHOD:PUBLISH
X-PUBLISHED-TTL:P3D
REFRESH-INTERVAL:P3D
CALSCALE:GREGORIAN
BEGIN:VEVENT
DTSTART:20141108T160000Z
DTEND:20141108T230000Z
X-MICROSOFT-CDO-ALLDAYEVENT:FALSE
SUMMARY:Conifer Newcomers & Neighbors 37th Annual Holiday Boutique
DESCRIPTION:Bring your shopping lists and join us for a festive day of holiday shopping at the 37th Annual Conifer Newcomers & Neighbors Holiday Boutique!
X-ALT-DESC;FMTTYPE=text/html:Bring your shopping lists and join us for a festive day of holiday shopping at the 37th Annual Conifer Newcomers &amp\; Neighbors Holiday Boutique!
LOCATION:Conifer High School\, 10441 Highway 73\, Conifer\, CO 80433
UID:e.692.3301
SEQUENCE:3
DTSTAMP:20260423T044709Z
URL:https://business.goconifer.com/events/details/conifer-newcomers-neighbors-37th-annual-holiday-boutique-11-08-2014-3301
END:VEVENT

END:VCALENDAR
