BEGIN:VCALENDAR
VERSION:2.0
PRODID:-//ChamberMaster//Event Calendar 2.0//EN
METHOD:PUBLISH
X-PUBLISHED-TTL:P3D
REFRESH-INTERVAL:P3D
CALSCALE:GREGORIAN
BEGIN:VEVENT
DTSTART;VALUE=DATE:20131102
DTEND;VALUE=DATE:20131103
TRANSP:TRANSPARENT
X-MICROSOFT-CDO-ALLDAYEVENT:TRUE
SUMMARY:Conifer Newcomers & Neighbors 36th Annual Holiday Boutique
DESCRIPTION:A unique craft and gift show featuring 78 Juried Artisans\, Ye Olde' Conifer Bake Shoppe\, 2013 Limited Edition Holiday Ornament and Silent Auction benefiting Conifer Area Council. Lunch will be available. Free Admission Parking & Shuttle.  CN&N is a non-profit organization. Holiday Boutique profits are donated to other LOCAL non-profits. For more information go to www.coniferneighbors.org
X-ALT-DESC;FMTTYPE=text/html:<span style="font-size: 14pt\;">A unique craft and gift show featuring 78 Juried Artisans\, Ye Olde&rsquo\; Conifer Bake Shoppe\, 2013 Limited Edition Holiday Ornament and Silent Auction benefiting Conifer Area Council. Lunch will be available. Free Admission Parking &amp\; Shuttle.<span>&nbsp\; </span>CN&amp\;N is a non-profit organization. Holiday Boutique profits are donated to other LOCAL non-profits. For more information go to www.conifer</span><span style="font-family: &quot\;yeyBook Antiqua&quot\;\,&quot\;serif&quot\;\; font-size: 14pt\;"><a href="http://neighbors.org/" target="_blank">neighbors.org</a></span>
LOCATION:Conifer High School\, 10441 Hwy 73\, Conifer\, Co 80433
UID:e.692.1540
SEQUENCE:3
DTSTAMP:20260423T213148Z
URL:https://business.goconifer.com/events/details/conifer-newcomers-neighbors-36th-annual-holiday-boutique-11-02-2013-1540
END:VEVENT

END:VCALENDAR
