BEGIN:VCALENDAR
VERSION:2.0
PRODID:-//ChamberMaster//Event Calendar 2.0//EN
METHOD:PUBLISH
X-PUBLISHED-TTL:P3D
REFRESH-INTERVAL:P3D
CALSCALE:GREGORIAN
BEGIN:VEVENT
DTSTART:20101113T160000Z
DTEND:20101113T233000Z
X-MICROSOFT-CDO-ALLDAYEVENT:FALSE
SUMMARY:Conifer Newcomers & Neighbors 33rd Annual Holiday Boutique
DESCRIPTION:Over 90 juried artisans and the De Olde' Conifer Bake Shoppe will have delightful items for you to purchase!\n\n\n\nLunch is available and benefits the Conifer High School Instrumental Band.\n\nThe Silent Auction benefits the Conifer Area Council TRAILS Study Action Team.
X-ALT-DESC;FMTTYPE=text/html:Over 90 juried artisans and the De Olde&#39\; Conifer Bake Shoppe will have delightful items for you to purchase!<br />\n<br />\nLunch is available and benefits the Conifer High School Instrumental Band.<br />\nThe Silent Auction benefits the Conifer Area Council TRAILS Study Action Team.
LOCATION:Conifer High School 10441 Hwy 73 Conifer\, CO 80433 Free parking and shuttle available!
UID:e.692.795
SEQUENCE:3
DTSTAMP:20260424T195410Z
URL:https://business.goconifer.com/events/details/conifer-newcomers-neighbors-33rd-annual-holiday-boutique-11-13-2010-795
END:VEVENT

END:VCALENDAR
