BEGIN:VCALENDAR
VERSION:2.0
PRODID:-//ChamberMaster//Event Calendar 2.0//EN
METHOD:PUBLISH
X-PUBLISHED-TTL:P3D
REFRESH-INTERVAL:P3D
CALSCALE:GREGORIAN
BEGIN:VEVENT
DTSTART;VALUE=DATE:20100807
DTEND;VALUE=DATE:20100808
TRANSP:TRANSPARENT
X-MICROSOFT-CDO-ALLDAYEVENT:TRUE
SUMMARY:Conifer Mountain Music Festival
DESCRIPTION:The Conifer Mountain Music Festival will take place on Saturday\, August 7th from 9:30am till 7:00pm at Beaver Ranch. Located at 11369 Foxton Road\, Conifer\, Colorado. The headliner will be Three Dog Night.
X-ALT-DESC;FMTTYPE=text/html:<div>The Conifer Mountain Music Festival will take place on Saturday\, August 7th from 9:30am till 7:00pm at Beaver Ranch. Located at 11369 Foxton Road\, Conifer\, Colorado. The headliner will be Three Dog Night.</div>
LOCATION:Beaver Ranch 11369 Foxton Road\, Conifer\, Colorado.
UID:e.692.265
SEQUENCE:3
DTSTAMP:20260424T155226Z
URL:https://business.goconifer.com/events/details/conifer-mountain-music-festival-08-07-2010-265
END:VEVENT

END:VCALENDAR
