BEGIN:VCALENDAR
VERSION:2.0
PRODID:-//ChamberMaster//Event Calendar 2.0//EN
METHOD:PUBLISH
X-PUBLISHED-TTL:P3D
REFRESH-INTERVAL:P3D
CALSCALE:GREGORIAN
BEGIN:VEVENT
DTSTART:20240907T010000Z
DTEND:20240907T030000Z
X-MICROSOFT-CDO-ALLDAYEVENT:FALSE
SUMMARY:Conifer Home Football Game at Conifer High School
DESCRIPTION:Come support your Conifer Lobos Football Team! Enjoy the beautiful mountain venue while building community! Go Lobos!
X-ALT-DESC;FMTTYPE=text/html:Come support your Conifer Lobos Football Team! Enjoy the beautiful mountain venue while building community! Go Lobos!&nbsp\;
LOCATION:
UID:e.692.44458
SEQUENCE:3
DTSTAMP:20260424T233053Z
URL:https://business.goconifer.com/events/details/conifer-home-football-game-at-conifer-high-school-09-06-2024-44458
END:VEVENT

END:VCALENDAR
