BEGIN:VCALENDAR
VERSION:2.0
PRODID:-//ChamberMaster//Event Calendar 2.0//EN
METHOD:PUBLISH
X-PUBLISHED-TTL:P3D
REFRESH-INTERVAL:P3D
CALSCALE:GREGORIAN
BEGIN:VEVENT
DTSTART;VALUE=DATE:20131126
DTEND;VALUE=DATE:20131227
TRANSP:TRANSPARENT
X-MICROSOFT-CDO-ALLDAYEVENT:TRUE
SUMMARY:Conifer Christmas Tree Lot at Aspen Park Landscape Supply
DESCRIPTION:Get your Christmas Tree at Aspen Park Landscape Supply!
X-ALT-DESC;FMTTYPE=text/html:Get your Christmas Tree at Aspen Park Landscape Supply!
LOCATION:Aspen Park Landscape Supply (near Elk Creek Elementary) 26527 Conifer Road (720) 383-3862
UID:e.692.1607
SEQUENCE:3
DTSTAMP:20260423T200349Z
URL:https://business.goconifer.com/events/details/conifer-christmas-tree-lot-at-aspen-park-landscape-supply-11-26-2013-1607
END:VEVENT

END:VCALENDAR
