BEGIN:VCALENDAR
VERSION:2.0
PRODID:-//ChamberMaster//Event Calendar 2.0//EN
METHOD:PUBLISH
X-PUBLISHED-TTL:P3D
REFRESH-INTERVAL:P3D
CALSCALE:GREGORIAN
BEGIN:VEVENT
DTSTART:20131207T203000Z
DTEND:20131207T220000Z
X-MICROSOFT-CDO-ALLDAYEVENT:FALSE
SUMMARY:Conifer Christmas Parade (31st Annual)
DESCRIPTION:Join us for the 31st Annual Conifer Christmas Parade!\n\nThis year's theme is A Storytime Christmas.\n\n\n\nChristmas Market Vendors and Spirits Tent will be open before and after the parade.\n\nSecond Annual Santa's Cookies and Milk Eating Contest will take place on the stage on parade day (more details soon!)\n\n\n\nTwo other related events:\n\nCommunity Tree Lighting on Sunday\, November 17th at approximately 5p at Conifer Community Church.\n\n\n\nHoliday Wine Tasting\, Silent Auction and Festival of Trees on Saturday\, November 23rd at The Barn at Evergreen Memorial Park.  Wine Tasting is from 4:30p - 7:30p.
X-ALT-DESC;FMTTYPE=text/html:Join us for the 31st Annual Conifer Christmas Parade!<br />\nThis year&#39\;s theme is A Storytime Christmas.<br />\n<br />\nChristmas Market Vendors and Spirits Tent will be open before and after the parade.<br />\nSecond Annual Santa&#39\;s Cookies and Milk Eating Contest will take place on the stage on parade day (more details soon!)<br />\n<br />\nTwo other related events:<br />\nCommunity Tree Lighting on Sunday\, November 17th at approximately 5p at Conifer Community Church.<br />\n<br />\nHoliday Wine Tasting\, Silent Auction and Festival of Trees on Saturday\, November 23rd at The Barn at Evergreen Memorial Park.&nbsp\; Wine Tasting is from 4:30p - 7:30p.
LOCATION:Sutton Road in Conifer (between Dallman Road and Wulf)
UID:e.692.1538
SEQUENCE:3
DTSTAMP:20260423T200226Z
URL:https://business.goconifer.com/events/details/conifer-christmas-parade-31st-annual-12-07-2013-1538
END:VEVENT

END:VCALENDAR
