BEGIN:VCALENDAR
VERSION:2.0
PRODID:-//ChamberMaster//Event Calendar 2.0//EN
METHOD:PUBLISH
X-PUBLISHED-TTL:P3D
REFRESH-INTERVAL:P3D
CALSCALE:GREGORIAN
BEGIN:VEVENT
DTSTART:20140411T131500Z
DTEND:20140411T150000Z
X-MICROSOFT-CDO-ALLDAYEVENT:FALSE
SUMMARY:Conifer Chamber Monthly Meeting
DESCRIPTION:This meeting welcomes chamber members\, prospective members\, and any of our neighbors interested in learning more about our business community and activities in the area!
X-ALT-DESC;FMTTYPE=text/html:<span style="font-size: 10.5pt\;"><span style="font-family: arial\,sans-serif\;"><span style="color: rgb(34\, 34\, 34)\;">This meeting welcomes chamber members\, prospective members\, and any of our neighbors interested in learning more about our business community and activities in the area!</span></span></span><br />\n&nbsp\;
LOCATION:Brooks Place Tavern (in the King Soopers Shopping Center) 25577 Conifer Road\, Suite 100\, Conifer CO 80433 303.816.1499
UID:e.692.1635
SEQUENCE:3
DTSTAMP:20260423T155833Z
URL:https://business.goconifer.com/events/details/conifer-chamber-monthly-meeting-04-11-2014-1635
END:VEVENT

END:VCALENDAR
