BEGIN:VCALENDAR
VERSION:2.0
PRODID:-//ChamberMaster//Event Calendar 2.0//EN
METHOD:PUBLISH
X-PUBLISHED-TTL:P3D
REFRESH-INTERVAL:P3D
CALSCALE:GREGORIAN
BEGIN:VEVENT
DTSTART:20130321T230000Z
DTEND:20130322T020000Z
X-MICROSOFT-CDO-ALLDAYEVENT:FALSE
SUMMARY:Conifer Chamber Mixer
DESCRIPTION:Mix it up with the Conifer Chamber\, 285bound.com\, Creekside Insurance\, Cabin Creek Smokehouse BBQ and Joy International!\n\n\n\nDon't forget to bring your business cards!
X-ALT-DESC;FMTTYPE=text/html:Mix it up with the Conifer Chamber\, 285bound.com\, Creekside Insurance\, Cabin Creek Smokehouse BBQ and Joy International!<br />\n<br />\nDon&#39\;t forget to bring your business cards!
LOCATION:25997 Conifer Road Conifer\, CO 80433
UID:e.692.1435
SEQUENCE:3
DTSTAMP:20260424T091505Z
URL:https://business.goconifer.com/events/details/conifer-chamber-mixer-03-21-2013-1435
END:VEVENT

END:VCALENDAR
