BEGIN:VCALENDAR
VERSION:2.0
PRODID:-//ChamberMaster//Event Calendar 2.0//EN
METHOD:PUBLISH
X-PUBLISHED-TTL:P3D
REFRESH-INTERVAL:P3D
CALSCALE:GREGORIAN
BEGIN:VEVENT
DTSTART:20101207T233000Z
DTEND:20101208T003000Z
X-MICROSOFT-CDO-ALLDAYEVENT:FALSE
SUMMARY:Conifer Chamber Finance Committee Meeting
DESCRIPTION:Finance Committee Meeting
X-ALT-DESC;FMTTYPE=text/html:Finance Committee Meeting
LOCATION:Conifer Chamber Office 11873 Springs Rd. Conifer\, CO 80433
UID:e.692.826
SEQUENCE:3
DTSTAMP:20260424T212534Z
URL:https://business.goconifer.com/events/details/conifer-chamber-finance-committee-meeting-12-07-2010-826
END:VEVENT

END:VCALENDAR
