BEGIN:VCALENDAR
VERSION:2.0
PRODID:-//ChamberMaster//Event Calendar 2.0//EN
METHOD:PUBLISH
X-PUBLISHED-TTL:P3D
REFRESH-INTERVAL:P3D
CALSCALE:GREGORIAN
BEGIN:VEVENT
DTSTART:20101203T000000Z
DTEND:20101203T020000Z
X-MICROSOFT-CDO-ALLDAYEVENT:FALSE
SUMMARY:Conifer Chamber Business Mixer: Route 285 Sports Bar & Grill
DESCRIPTION:Join us to see this incredible makeover and to welcome our new chamber members!
X-ALT-DESC;FMTTYPE=text/html:Join us to see this incredible makeover and to welcome our new chamber members!
LOCATION:11873 Springs Road Conifer\, CO 80433 (By the Conifer Chamber Office)
UID:e.692.824
SEQUENCE:3
DTSTAMP:20260424T212702Z
URL:https://business.goconifer.com/events/details/conifer-chamber-business-mixer-route-285-sports-bar-grill-12-02-2010-824
END:VEVENT

END:VCALENDAR
