BEGIN:VCALENDAR
VERSION:2.0
PRODID:-//ChamberMaster//Event Calendar 2.0//EN
METHOD:PUBLISH
X-PUBLISHED-TTL:P3D
REFRESH-INTERVAL:P3D
CALSCALE:GREGORIAN
BEGIN:VEVENT
DTSTART:20200417T140000Z
DTEND:20200417T151500Z
X-MICROSOFT-CDO-ALLDAYEVENT:FALSE
SUMMARY:COMMUNITY IMPACT BREAKFAST WEBINAR WITH FUTURIST THOMAS FREY
DESCRIPTION:The COVID-19 disruption in events\, travel\, manufacturing and trade has had a range of unintended consequences- and certainly not all of them bad. Join us for a presentation by Google's Top-Rated Futurist Speaker\, Thomas Frey\, followed by panel Q&A with local business leaders on our changing industries.
X-ALT-DESC;FMTTYPE=text/html:<span style="caret-color: rgb(68\, 68\, 68)\; color: rgb(68\, 68\, 68)\; font-family: Arial\, Helvetica\, sans-serif\; font-size: 14px\; text-size-adjust: auto\;">The COVID-19 disruption in events\, travel\, manufacturing and trade has had a range of unintended consequences- and certainly not all of them bad. Join us for a presentation by Google&#39\;s Top-Rated Futurist Speaker\, Thomas Frey\, followed by panel Q&amp\;A with local business leaders on our changing industries.&nbsp\;</span>
LOCATION:Please join my meeting from your computer\, tablet or smartphone. https://global.gotomeeting.com/join/113043173 You can also dial in using your phone. United States: +1 (872) 240-3212 Access Code: 113-043-173 New to GoToMeeting? Get the app now and be ready when your first meeting starts: https://global.gotomeeting.com/install/113043173
UID:e.692.30776
SEQUENCE:3
DTSTAMP:20260426T033355Z
URL:https://business.goconifer.com/events/details/community-impact-breakfast-webinar-with-futurist-thomas-frey-30776
END:VEVENT

END:VCALENDAR
