BEGIN:VCALENDAR
VERSION:2.0
PRODID:-//ChamberMaster//Event Calendar 2.0//EN
METHOD:PUBLISH
X-PUBLISHED-TTL:P3D
REFRESH-INTERVAL:P3D
CALSCALE:GREGORIAN
BEGIN:VEVENT
DTSTART:20160407T233000Z
DTEND:20160408T010000Z
X-MICROSOFT-CDO-ALLDAYEVENT:FALSE
SUMMARY:Cocktails and Conversation With Beautycounter
DESCRIPTION:Elizabeth Shaeffer\, local Consultant\, and Jen Schultz\, Founding Member\, would love to introduce you to this industry-disrupting brand that is on a mission to get safe products into the hands of everyone. We are an education first company\, and would love for you to be involved in this important discussion about the lack of regulation in the personal care products industry. We deserve better\, and Beautycounter is leading the charge. Watch this short video to learn more: https://www.youtube.com/watch?v=aZfV91Ybmnc\n\n\n\n* RSVP by April 4 to secure your spot\, as space is limited *
X-ALT-DESC;FMTTYPE=text/html:Elizabeth Shaeffer\, local Consultant\, and Jen Schultz\, Founding Member\, would love to introduce you to this industry-disrupting brand that is on a mission to get safe products into the hands of everyone. We are an education first company\, and would love for you to be involved in this important discussion about the lack of regulation in the personal care products industry. We deserve better\, and Beautycounter is leading the charge. Watch this short video to learn more: <a href="https://www.youtube.com/watch?v=aZfV91Ybmnc" rel="nofollow nofollow" target="_blank">https://www.youtube.com/watch?v=aZfV91Ybmnc</a><br />\n<br />\n* RSVP by April 4 to secure your spot\, as space is limited *
LOCATION:Lariat Lodge Brewing Co.\, 27618 Fireweed Drive\, Evergreen
UID:e.692.17180
SEQUENCE:3
DTSTAMP:20260422T000754Z
URL:https://business.goconifer.com/events/details/cocktails-and-conversation-with-beautycounter-04-07-2016-17180
END:VEVENT

END:VCALENDAR
