BEGIN:VCALENDAR
VERSION:2.0
PRODID:-//ChamberMaster//Event Calendar 2.0//EN
METHOD:PUBLISH
X-PUBLISHED-TTL:P3D
REFRESH-INTERVAL:P3D
CALSCALE:GREGORIAN
BEGIN:VEVENT
DTSTART:20141003T220000Z
DTEND:20141004T000000Z
X-MICROSOFT-CDO-ALLDAYEVENT:FALSE
SUMMARY:CLIPPING CLAWS FOR CAUSE
DESCRIPTION:Time again for Clipping Clause for Cause!\n\nPONDEROSA PAWS MOBILE DOG GROOMING\n\nwill be at Healthy Pet Supply in Aspen Park this Friday evening doing doggy \n\nnail trims and donating 50% of the proceeds to a local animal shelter.\n\n\n\nNo Appointment Necessary\, just walk on up to van with your pooch(es)\n\n\n\nThanks to everyone who has helped make this a success so far!
X-ALT-DESC;FMTTYPE=text/html:<span style="line-height: 20.7999992370605px\;">Time again for Clipping Clause for Cause!</span><br style="line-height: 20.7999992370605px\; margin: 0px\; padding: 0px\;" />\n<span style="line-height: 20.7999992370605px\;">PONDEROSA PAWS MOBILE DOG GROOMING</span><br style="line-height: 20.7999992370605px\; margin: 0px\; padding: 0px\;" />\n<span style="line-height: 20.7999992370605px\;">will be at Healthy Pet Supply in Aspen Park&nbsp\;</span><span style="line-height: 20.7999992370605px\;">this Friday evening doing&nbsp\;</span><span style="line-height: 20.7999992370605px\;">doggy&nbsp\;</span><br style="line-height: 20.7999992370605px\; margin: 0px\; padding: 0px\;" />\n<span style="line-height: 20.7999992370605px\;">nail trims and donating 50% of the proceeds to a local animal shelter.</span><br style="line-height: 20.7999992370605px\; margin: 0px\; padding: 0px\;" />\n<br style="line-height: 20.7999992370605px\; margin: 0px\; padding: 0px\;" />\n<span style="line-height: 20.7999992370605px\;">No Appointment Necessary\, just walk on up to van with your pooch(</span>es<span style="line-height: 20.7999992370605px\;">)</span><br style="line-height: 20.7999992370605px\; margin: 0px\; padding: 0px\;" />\n<br style="line-height: 20.7999992370605px\; margin: 0px\; padding: 0px\;" />\n<span style="line-height: 20.7999992370605px\;">Thanks to everyone who has helped make this a success so far!</span>
LOCATION:Healthy Pet Supply 25797 Conifer Rd\, Suite A-10 Conifer\, CO
UID:e.692.3388
SEQUENCE:3
DTSTAMP:20260423T061940Z
URL:https://business.goconifer.com/events/details/clipping-claws-for-cause-10-03-2014-3388
END:VEVENT

END:VCALENDAR
