BEGIN:VCALENDAR
VERSION:2.0
PRODID:-//ChamberMaster//Event Calendar 2.0//EN
METHOD:PUBLISH
X-PUBLISHED-TTL:P3D
REFRESH-INTERVAL:P3D
CALSCALE:GREGORIAN
BEGIN:VEVENT
DTSTART:20140606T220000Z
DTEND:20140607T000000Z
X-MICROSOFT-CDO-ALLDAYEVENT:FALSE
SUMMARY:CLIPPING CLAWS FOR CAUSE
DESCRIPTION:Time again for Clipping Clause for Cause!\n\nPONDEROSA PAWS MOBILE DOG GROOMING\n\nwill be at Healthy Pet Supply in Aspen Park\n\nthis Friday\, JUNE 6th from 4-6pm doing doggy \n\ntoe-nail trims and donating 50% of the proceeds to\n\nIntermountain Humane Society\n\nNo Appointment Necessary\, just walk on up to van with your pooch(es)\n\n\n\nThanks to everyone who has helped make this a success so far!\n\n\n\n303-816-1102/ponderosapaws.com/fb = Ponderosa Paws Mobile Dog Grooming
X-ALT-DESC;FMTTYPE=text/html:Time again for Clipping Clause for Cause!<br style="margin-top: 0px\; margin-right: 0px\; margin-bottom: 0px\; margin-left: 0px\; padding-top: 0px\; padding-right: 0px\; padding-bottom: 0px\; padding-left: 0px\; " />\nPONDEROSA PAWS MOBILE DOG GROOMING<br style="margin-top: 0px\; margin-right: 0px\; margin-bottom: 0px\; margin-left: 0px\; padding-top: 0px\; padding-right: 0px\; padding-bottom: 0px\; padding-left: 0px\; " />\nwill be at Healthy Pet Supply in Aspen Park<br style="margin-top: 0px\; margin-right: 0px\; margin-bottom: 0px\; margin-left: 0px\; padding-top: 0px\; padding-right: 0px\; padding-bottom: 0px\; padding-left: 0px\; " />\nthis Friday\, JUNE 6th from 4-6pm doing doggy&nbsp\;<br style="margin-top: 0px\; margin-right: 0px\; margin-bottom: 0px\; margin-left: 0px\; padding-top: 0px\; padding-right: 0px\; padding-bottom: 0px\; padding-left: 0px\; " />\ntoe-nail trims and donating 50% of the proceeds to<br style="margin-top: 0px\; margin-right: 0px\; margin-bottom: 0px\; margin-left: 0px\; padding-top: 0px\; padding-right: 0px\; padding-bottom: 0px\; padding-left: 0px\; " />\nIntermountain Humane Society<br style="margin-top: 0px\; margin-right: 0px\; margin-bottom: 0px\; margin-left: 0px\; padding-top: 0px\; padding-right: 0px\; padding-bottom: 0px\; padding-left: 0px\; " />\nNo Appointment Necessary\, just walk on up to van with your pooch(es)<br style="margin-top: 0px\; margin-right: 0px\; margin-bottom: 0px\; margin-left: 0px\; padding-top: 0px\; padding-right: 0px\; padding-bottom: 0px\; padding-left: 0px\; " />\n<br style="margin-top: 0px\; margin-right: 0px\; margin-bottom: 0px\; margin-left: 0px\; padding-top: 0px\; padding-right: 0px\; padding-bottom: 0px\; padding-left: 0px\; " />\nThanks to everyone who has helped make this a success so far!<br style="margin-top: 0px\; margin-right: 0px\; margin-bottom: 0px\; margin-left: 0px\; padding-top: 0px\; padding-right: 0px\; padding-bottom: 0px\; padding-left: 0px\; " />\n<br style="margin-top: 0px\; margin-right: 0px\; margin-bottom: 0px\; margin-left: 0px\; padding-top: 0px\; padding-right: 0px\; padding-bottom: 0px\; padding-left: 0px\; " />\n303-816-1102/ponderosapaws.com/fb = Ponderosa Paws Mobile Dog Grooming
LOCATION:Healthy Pet Supply\, Aspen Park
UID:e.692.3041
SEQUENCE:3
DTSTAMP:20260423T115623Z
URL:https://business.goconifer.com/events/details/clipping-claws-for-cause-06-06-2014-3041
END:VEVENT

END:VCALENDAR
