BEGIN:VCALENDAR
VERSION:2.0
PRODID:-//ChamberMaster//Event Calendar 2.0//EN
METHOD:PUBLISH
X-PUBLISHED-TTL:P3D
REFRESH-INTERVAL:P3D
CALSCALE:GREGORIAN
BEGIN:VEVENT
DTSTART:20140307T230000Z
DTEND:20140308T010000Z
X-MICROSOFT-CDO-ALLDAYEVENT:FALSE
SUMMARY:Clipping Claws for Cause
DESCRIPTION:PONDEROSA PAWS Moible Dog Grooming Service will be doing doggy toe-nail trims the first friday of every month at Healthy Pet Supply in Aspen Park.  Most dogs are $10\, with 50% of all monies received being donated alternately between IMHS and EAPL!\n\n\n\nBring Fido in for a pedicure and help our mountain shelters at the same time!
X-ALT-DESC;FMTTYPE=text/html:<strong>PONDEROSA PAWS</strong> Moible Dog Grooming Service will be doing doggy toe-nail trims the first friday of every month at Healthy Pet Supply in Aspen Park. &nbsp\;Most dogs are $10\, with 50% of all monies received being donated alternately between IMHS and EAPL!<br />\n<br />\nBring Fido in for a pedicure and help our mountain shelters at the same time!<br />\n&nbsp\;
LOCATION:Healthy Pet Supply\, Aspen Park
UID:e.692.1761
SEQUENCE:3
DTSTAMP:20260423T155806Z
URL:https://business.goconifer.com/events/details/clipping-claws-for-cause-03-07-2014-1761
END:VEVENT

END:VCALENDAR
