BEGIN:VCALENDAR
VERSION:2.0
PRODID:-//ChamberMaster//Event Calendar 2.0//EN
METHOD:PUBLISH
X-PUBLISHED-TTL:P3D
REFRESH-INTERVAL:P3D
CALSCALE:GREGORIAN
BEGIN:VEVENT
DTSTART:20100522T170000Z
DTEND:20100522T193000Z
X-MICROSOFT-CDO-ALLDAYEVENT:FALSE
SUMMARY:Climb a Pine to Benefit Mountain Area Land Trust
DESCRIPTION:Join us for an amazing experience. Climb a beautiful Ponderosa Pine in Evergreen using ropes\, knots and a safety harness. See your community from the top of this natural perch.
X-ALT-DESC;FMTTYPE=text/html:Join us for an amazing experience. Climb a beautiful Ponderosa Pine in Evergreen using ropes\, knots and a safety harness. See your community from the top of this natural perch.
LOCATION:Buchanan Park\, Evergreen
UID:e.692.374
SEQUENCE:3
DTSTAMP:20260424T112553Z
URL:https://business.goconifer.com/events/details/climb-a-pine-to-benefit-mountain-area-land-trust-05-22-2010-374
END:VEVENT

END:VCALENDAR
