BEGIN:VCALENDAR
VERSION:2.0
PRODID:-//ChamberMaster//Event Calendar 2.0//EN
METHOD:PUBLISH
X-PUBLISHED-TTL:P3D
REFRESH-INTERVAL:P3D
CALSCALE:GREGORIAN
BEGIN:VEVENT
DTSTART:20211231T160000Z
DTEND:20211231T190000Z
X-MICROSOFT-CDO-ALLDAYEVENT:FALSE
SUMMARY:Clayful Critters Winter Break Camp
DESCRIPTION:Does your child love nature and art?\n\n\n\nClayful Critters is a half-day winter break camp blending nature and art education. We will be meeting a few critters up close and learning about the natural world through fun art projects. Projects may include clay/ceramics\, drawing\, painting and more. Please pack a snack and warm clothes for nature walks!\n\n*We will also be offering an add-on afternoon yoga program\, registration is separate.
X-ALT-DESC;FMTTYPE=text/html:<p>Does your child love nature and art?<br />\n<br />\nClayful Critters is a half-day winter break camp blending nature and art education. We will be meeting a few critters up close and learning about the natural world through fun art projects. Projects may include clay/ceramics\, drawing\, painting and more. Please pack a snack and warm clothes for nature walks!</p>\n\n<p>*We will also be offering an add-on afternoon yoga program\, registration is separate.</p>\n
LOCATION:The Nature Link 30403 Kings Valley Dr. Suite 1-113 Conifer\, CO 80433
UID:e.692.34059
SEQUENCE:3
DTSTAMP:20260419T220311Z
URL:https://business.goconifer.com/events/details/clayful-critters-winter-break-camp-12-31-2021-34059
END:VEVENT

END:VCALENDAR
