BEGIN:VCALENDAR
VERSION:2.0
PRODID:-//ChamberMaster//Event Calendar 2.0//EN
METHOD:PUBLISH
X-PUBLISHED-TTL:P3D
REFRESH-INTERVAL:P3D
CALSCALE:GREGORIAN
BEGIN:VEVENT
DTSTART;VALUE=DATE:20120505
DTEND;VALUE=DATE:20120506
TRANSP:TRANSPARENT
X-MICROSOFT-CDO-ALLDAYEVENT:TRUE
SUMMARY:Cinco de Mayo and GRAND OPENING Celebration
DESCRIPTION:Come celebrate Cinco de Mayo and our GRAND OPENING!\n\nLive Mariachi Band from 6p - 8p!\n\nFabulous Specials!
X-ALT-DESC;FMTTYPE=text/html:Come celebrate Cinco de&nbsp\;Mayo and our GRAND OPENING!<br />\nLive Mariachi Band&nbsp\;from 6p - 8p!<br />\nFabulous Specials!
LOCATION:Los 3 Garcias Mexican Restaurant 25567 Conifer Road\, Suite 120 Conifer\, CO 80433
UID:e.692.1272
SEQUENCE:3
DTSTAMP:20260424T231300Z
URL:https://business.goconifer.com/events/details/cinco-de-mayo-and-grand-opening-celebration-05-05-2012-1272
END:VEVENT

END:VCALENDAR
