BEGIN:VCALENDAR
VERSION:2.0
PRODID:-//ChamberMaster//Event Calendar 2.0//EN
METHOD:PUBLISH
X-PUBLISHED-TTL:P3D
REFRESH-INTERVAL:P3D
CALSCALE:GREGORIAN
BEGIN:VEVENT
DTSTART:20101014T233000Z
DTEND:20101015T010000Z
X-MICROSOFT-CDO-ALLDAYEVENT:FALSE
SUMMARY:Christmas Parade Committee Meeting
DESCRIPTION:This is a planning committee meeting.
X-ALT-DESC;FMTTYPE=text/html:<span>This is a planning committee meeting.</span> 
LOCATION:Qdoba Mexican Grill (25597 Conifer Rd.)
UID:e.692.799
SEQUENCE:3
DTSTAMP:20260424T181217Z
URL:https://business.goconifer.com/events/details/christmas-parade-committee-meeting-10-14-2010-799
END:VEVENT

END:VCALENDAR
