BEGIN:VCALENDAR
VERSION:2.0
PRODID:-//ChamberMaster//Event Calendar 2.0//EN
METHOD:PUBLISH
X-PUBLISHED-TTL:P3D
REFRESH-INTERVAL:P3D
CALSCALE:GREGORIAN
BEGIN:VEVENT
DTSTART:20131118T000000Z
DTEND:20131118T020000Z
X-MICROSOFT-CDO-ALLDAYEVENT:FALSE
SUMMARY:Christmas Light Show Launch & 60th Anniversary Celebration
DESCRIPTION:Join us for the launch of the Christmas Light Show!
X-ALT-DESC;FMTTYPE=text/html:Join us for the launch of the Christmas Light Show!
LOCATION:Conifer Community Church 9998 S. Havekost Rd. Conifer
UID:e.692.1593
SEQUENCE:3
DTSTAMP:20260423T212514Z
URL:https://business.goconifer.com/events/details/christmas-light-show-launch-60th-anniversary-celebration-11-17-2013-1593
END:VEVENT

END:VCALENDAR
