BEGIN:VCALENDAR
VERSION:2.0
PRODID:-//ChamberMaster//Event Calendar 2.0//EN
METHOD:PUBLISH
X-PUBLISHED-TTL:P3D
REFRESH-INTERVAL:P3D
CALSCALE:GREGORIAN
BEGIN:VEVENT
DTSTART:20131119T010000Z
DTEND:20140101T050000Z
X-MICROSOFT-CDO-ALLDAYEVENT:FALSE
SUMMARY:Christmas Light Show
DESCRIPTION:Enjoy a free Christmas Lights Show set to music.
X-ALT-DESC;FMTTYPE=text/html:Enjoy a free Christmas Lights Show set to music.
LOCATION:Conifer Community Church 9998 S. Havekost Road (by ACE Hardware) Conifer\, CO 80433
UID:e.692.1601
SEQUENCE:3
DTSTAMP:20260423T212500Z
URL:https://business.goconifer.com/events/details/christmas-light-show-11-18-2013-1601
END:VEVENT

END:VCALENDAR
