BEGIN:VCALENDAR
VERSION:2.0
PRODID:-//ChamberMaster//Event Calendar 2.0//EN
METHOD:PUBLISH
X-PUBLISHED-TTL:P3D
REFRESH-INTERVAL:P3D
CALSCALE:GREGORIAN
BEGIN:VEVENT
DTSTART:20140724T160000Z
DTEND:20140725T020000Z
X-MICROSOFT-CDO-ALLDAYEVENT:FALSE
SUMMARY:Christmas in July Shopping Sale
DESCRIPTION:Christmas In July Shopping Party! \n\n Thursday\, July 24\, 2013\n\n10:00 a.m. - 8:00 p.m.\n\n\n	Come join us for our biggest sale of the season!  A full day of special discounts & giveaways.\n	To fuel your shopping excursion\, we will be providing wine and cheese and light hour' devours.  \n	Bring the largest number of guests with you and you will be entered to win a $50.00 LWIF Gift Certificate.  (Sorry ladies\, you will need to designate one person from your group).
X-ALT-DESC;FMTTYPE=text/html:<div align="center" style="color: rgb(0\, 0\, 0)\; font-family: Arial\, Helvetica\, sans-serif\; line-height: normal\; text-align: center\; font-size: 16pt\; background-color: rgb(204\, 255\, 204)\;"><b>Christmas In July Shopping Party!</b><strong>&nbsp\;</strong></div>\n\n<div align="center" style="color: rgb(0\, 0\, 0)\; font-family: Arial\, Helvetica\, sans-serif\; line-height: normal\; text-align: center\; font-size: 14pt\; background-color: rgb(204\, 255\, 204)\;"><strong>&nbsp\;T</strong><strong>hursday\, July 24\, 2013</strong></div>\n\n<div align="center" style="color: rgb(0\, 0\, 0)\; font-family: Arial\, Helvetica\, sans-serif\; line-height: normal\; text-align: center\; font-size: 14pt\; background-color: rgb(204\, 255\, 204)\;"><strong>10:00 a.m. - 8:00 p.m.</strong></div>\n\n<ul style="color: rgb(0\, 0\, 0)\; font-family: Arial\, Helvetica\, sans-serif\; line-height: normal\; background-color: rgb(204\, 255\, 204)\;">\n	<li style="margin-left: 15px\; font-size: 14pt\;">Come join us for our biggest sale of the season!&nbsp\; A full day of special discounts &amp\; giveaways.</li>\n	<li style="margin-left: 15px\; font-size: 14pt\;">To fuel your shopping excursion\, we will be providing wine and cheese and light hour&#39\; devours.&nbsp\;&nbsp\;</li>\n	<li style="margin-left: 15px\; font-size: 14pt\;">Bring the largest number of guests with you and you will be entered to win a $50.00 LWIF Gift Certificate.&nbsp\; (Sorry ladies\, you will need to designate one person from your group).</li>\n</ul>\n
LOCATION:Look What I Found Boutique\, 25797 Conifer Road\, Suite B217\, Conifer\, CO
UID:e.692.3276
SEQUENCE:3
DTSTAMP:20260423T104401Z
URL:https://business.goconifer.com/events/details/christmas-in-july-shopping-sale-07-24-2014-3276
END:VEVENT

END:VCALENDAR
