BEGIN:VCALENDAR
VERSION:2.0
PRODID:-//ChamberMaster//Event Calendar 2.0//EN
METHOD:PUBLISH
X-PUBLISHED-TTL:P3D
REFRESH-INTERVAL:P3D
CALSCALE:GREGORIAN
BEGIN:VEVENT
DTSTART:20131214T160000Z
DTEND:20131214T230000Z
X-MICROSOFT-CDO-ALLDAYEVENT:FALSE
SUMMARY:Christmas Cookie Walk
DESCRIPTION:Our Lady of the Pines Church will host its 10th annual Christmas "Cookie Walk"  this Saturday\, Dec. 14th\, from 9-4.  It is the perfect opportunity to stock up on home-made cookies\, breads\, candies and other goodies\, plus there will be craft tables.  Call 303-838-0338 for more info.
X-ALT-DESC;FMTTYPE=text/html:Our Lady of the&nbsp\;Pines&nbsp\;Church will host its 10th annual Christmas &quot\;Cookie Walk&quot\;&nbsp\; this <span class="aBn" data-term="goog_531588850" tabindex="0"><span class="aQJ">Saturday\, Dec. 14th</span></span>\, from 9-4.&nbsp\;&nbsp\;It is the perfect opportunity to stock up on home-made cookies\, breads\, candies and other goodies\, plus there&nbsp\;will be craft tables.&nbsp\; Call <a href="tel:303-838-0338" target="_blank" value="+13038380338"><font color="#1155cc">303-838-0338</font></a> for more info.&nbsp\; 
LOCATION:Our Lady of the Pines Catholic Church The church is located at 9444 Eagle Cliff Rd. in Conifer\, on Hwy. 285 north of Aspen Park.
UID:e.692.1753
SEQUENCE:3
DTSTAMP:20260423T195800Z
URL:https://business.goconifer.com/events/details/christmas-cookie-walk-12-14-2013-1753
END:VEVENT

END:VCALENDAR
