BEGIN:VCALENDAR
VERSION:2.0
PRODID:-//ChamberMaster//Event Calendar 2.0//EN
METHOD:PUBLISH
X-PUBLISHED-TTL:P3D
REFRESH-INTERVAL:P3D
CALSCALE:GREGORIAN
BEGIN:VEVENT
DTSTART:20170313T220000Z
DTEND:20170313T230000Z
X-MICROSOFT-CDO-ALLDAYEVENT:FALSE
SUMMARY:Choosing your retirement path
DESCRIPTION:Headed towards Retirement?  Be sure you're traveling in the right direction.  From financial concerns to sound solutions\, let's talk about the challenges you face as you navigate the road towards retirement.\n\n\n\nPresented by: Aging Wisely in the Foothills (Conifer Physical Therapy\, Colorado Senior Counseling\, Diana Jansen)\n\nSpeaker: Sean Swanson\, Investment Solutions Consultant
X-ALT-DESC;FMTTYPE=text/html:Headed towards Retirement?&nbsp\; Be sure you&#39\;re traveling in the right direction.&nbsp\; From financial concerns to sound solutions\, let&#39\;s talk about the challenges you face as you navigate the road towards retirement.<br />\n<br />\nPresented by: Aging Wisely in the Foothills (Conifer Physical Therapy\, Colorado Senior Counseling\, Diana Jansen)<br />\nSpeaker: Sean Swanson\, Investment Solutions Consultant
LOCATION:Conifer Community Church 9998 Havekost Rd Conifer CO 80433
UID:e.692.21885
SEQUENCE:3
DTSTAMP:20260423T065648Z
URL:https://business.goconifer.com/events/details/choosing-your-retirement-path-21885
END:VEVENT

END:VCALENDAR
