BEGIN:VCALENDAR
VERSION:2.0
PRODID:-//ChamberMaster//Event Calendar 2.0//EN
METHOD:PUBLISH
X-PUBLISHED-TTL:P3D
REFRESH-INTERVAL:P3D
CALSCALE:GREGORIAN
BEGIN:VEVENT
DTSTART:20100410T180000Z
DTEND:20100410T210000Z
X-MICROSOFT-CDO-ALLDAYEVENT:FALSE
SUMMARY:Chili at the School House
DESCRIPTION:Chili at the School HouseSaturday\, April 10th12:00 tp 3:00pmPleasant Park School22551 Pleasant Park Road\, Conifer Enjoy three kinds of chili with all the fixin's in an authentically restored\,116 year old\, one-room schoool. Dessert and beverage included. $5.00 Adults    $2.00 kids under 12Eat in or Take out is available! For info\, tickets & reservations call Yvonne at 303-838-4805. Presented by the Pleasant Park Grange. Serving the Conifer cummunity since 1097.
X-ALT-DESC;FMTTYPE=text/html:<div>Chili at the School House</div><div>Saturday\, April 10th</div><div>12:00 tp 3:00pm</div><div>Pleasant Park School</div><div>22551 Pleasant Park Road\, Conifer</div><div>&nbsp\;</div><div>Enjoy three kinds of chili with all the fixin's in an authentically restored\,116 year old\, one-room schoool. Dessert and beverage included.</div><div>&nbsp\;</div><div>$5.00 Adults&nbsp\;&nbsp\;&nbsp\;&nbsp\;$2.00 kids under 12</div><div>Eat in or Take out is available!</div><div>&nbsp\;</div><div>For info\, tickets &amp\;&nbsp\;reservations call Yvonne at 303-838-4805.</div><div>&nbsp\;</div><div>Presented by the Pleasant Park Grange. Serving the Conifer cummunity since 1097.</div>
LOCATION:Chili at the School House Pleasant Park School22551 Pleasant Park Road\, Conifer For info\, tickets & reservations call Yvonne at 303-838-4805. Presented by the Pleasant Park Grange. Serving the Conifer cummunity since 1097.
UID:e.692.334
SEQUENCE:3
DTSTAMP:20260424T095717Z
URL:https://business.goconifer.com/events/details/chili-at-the-school-house-04-10-2010-334
END:VEVENT

END:VCALENDAR
