BEGIN:VCALENDAR
VERSION:2.0
PRODID:-//ChamberMaster//Event Calendar 2.0//EN
METHOD:PUBLISH
X-PUBLISHED-TTL:P3D
REFRESH-INTERVAL:P3D
CALSCALE:GREGORIAN
BEGIN:VEVENT
DTSTART:20140728T180000Z
DTEND:20140728T193000Z
X-MICROSOFT-CDO-ALLDAYEVENT:FALSE
SUMMARY:Children's Old West Party
DESCRIPTION:Giddy up and head on over to Hiwan Homestead Museum for its children's Old West Party!  All cowpokes and cowgirls ages 6 to 12 are invited to come and enjoy the fun! Themed food and activities will be featured. \n\n\n\nThis event is sure to be fun and exciting for all who attend! Sign up early as space is limited and pre-registration is required. There is a fee of $10 per child. Please call the Museum at 720-497-7650 for more information and to sign up.
X-ALT-DESC;FMTTYPE=text/html:Giddy up and head on over to Hiwan Homestead Museum for its children&rsquo\;s Old West&nbsp\;Party! &nbsp\;All cowpokes and cowgirls ages 6&nbsp\;to 12 are invited to come and enjoy the fun! Themed food and activities will be featured.&nbsp\;<br />\n<br />\nThis event is sure to be fun and exciting for all who attend! Sign up early as space is&nbsp\;limited and pre-registration is required. There is a fee of $10 per child. Please call the&nbsp\;Museum at 720-497-7650 for more information and to sign up.&nbsp\;<br />\n<br />\n&nbsp\;
LOCATION:Hiwan Homestead Museum is a 25-room log mansion constructed in the Rustic style of architecture. It is located in Evergreen at 4208 S. Timbervale Drive. Hiwan Homestead Museum is a Jefferson County Open Space facility operated in partnership with the Jefferson County Historical Society. The Museum was listed on the National Register of Historic Places in 1974.
UID:e.692.3271
SEQUENCE:3
DTSTAMP:20260423T104004Z
URL:https://business.goconifer.com/events/details/children-s-old-west-party-07-28-2014-3271
END:VEVENT

END:VCALENDAR
