BEGIN:VCALENDAR
VERSION:2.0
PRODID:-//ChamberMaster//Event Calendar 2.0//EN
METHOD:PUBLISH
X-PUBLISHED-TTL:P3D
REFRESH-INTERVAL:P3D
CALSCALE:GREGORIAN
BEGIN:VEVENT
DTSTART:20231201T020000Z
DTEND:20231210T020000Z
X-MICROSOFT-CDO-ALLDAYEVENT:FALSE
SUMMARY:Chicago The Musical Teen Edition
DESCRIPTION:The Venue Theatre is proud to present- Chicago The Musical School Edition!\nSYNOPSIS: In the Roaring Twenties\, aspiring chorus girl Roxie Hart and fading vaudeville star Velma Kelly each face trial for murder. Both as cynical as they are sexy\, the two women compete for the services of shady lawyer Billy Flynn\, who promises to make them media celebrities and win them acquittals.\n\n\n\nCome support local young artists!
X-ALT-DESC;FMTTYPE=text/html:The Venue Theatre is proud to present- Chicago The Musical School Edition!\n<p><span style="color:rgb(32\, 33\, 36)\; font-family:google sans\,arial\,sans-serif">SYNOPSIS: In the Roaring Twenties\, aspiring chorus girl Roxie Hart and fading vaudeville star Velma Kelly each face trial for murder. Both as cynical as they are sexy\, the two women compete for the services of shady lawyer Billy Flynn\, who promises to make them media celebrities and win them acquittals.<br />\n<br />\nCome support local young artists!&nbsp\;</span></p>\n
LOCATION:The Venue Theatre Conifer\, CO
UID:e.692.40266
SEQUENCE:3
DTSTAMP:20260425T153119Z
URL:https://business.goconifer.com/events/details/chicago-the-musical-teen-edition-40266
END:VEVENT

END:VCALENDAR
