BEGIN:VCALENDAR
VERSION:2.0
PRODID:-//ChamberMaster//Event Calendar 2.0//EN
METHOD:PUBLISH
X-PUBLISHED-TTL:P3D
REFRESH-INTERVAL:P3D
CALSCALE:GREGORIAN
BEGIN:VEVENT
DTSTART:20100412T230000Z
DTEND:20100413T010000Z
X-MICROSOFT-CDO-ALLDAYEVENT:FALSE
SUMMARY:Chamber Mixer at Eye Consultants of Colorado
DESCRIPTION:Chamber Mixer at Eye Consultants of ColoradoLearn about our Ecc Vision Program for local business owners.Food Catered by Aspen Park Specialty Foods and Catering.
X-ALT-DESC;FMTTYPE=text/html:<div><strong>Chamber Mixer at </strong></div><div><strong>Eye Consultants of Colorado</strong></div><div>Learn about our Ecc Vision Program for local business owners.</div><div>Food Catered by Aspen Park Specialty Foods and Catering.</div>
LOCATION:Eye Consultants of Colorado10791 Kitty Drive #BConifer\, CO 80433
UID:e.692.271
SEQUENCE:3
DTSTAMP:20260424T100011Z
URL:https://business.goconifer.com/events/details/chamber-mixer-at-eye-consultants-of-colorado-04-12-2010-271
END:VEVENT

END:VCALENDAR
