BEGIN:VCALENDAR
VERSION:2.0
PRODID:-//ChamberMaster//Event Calendar 2.0//EN
METHOD:PUBLISH
X-PUBLISHED-TTL:P3D
REFRESH-INTERVAL:P3D
CALSCALE:GREGORIAN
BEGIN:VEVENT
DTSTART:20110903T180000Z
DTEND:20110903T180000Z
X-MICROSOFT-CDO-ALLDAYEVENT:FALSE
SUMMARY:Catherine Reed Music
DESCRIPTION:Great acoustic variety music .\n\nRequests welcome\n\nFive Stars *****
X-ALT-DESC;FMTTYPE=text/html:Great acoustic variety music .<br />\nRequests welcome<br />\nFive Stars <strong><span style="color: #ff0000">*****</span></strong>
LOCATION:Ravins in Conifer
UID:e.692.1178
SEQUENCE:3
DTSTAMP:20260425T123541Z
URL:https://business.goconifer.com/events/details/catherine-reed-music-09-03-2011-1178
END:VEVENT

END:VCALENDAR
