BEGIN:VCALENDAR
VERSION:2.0
PRODID:-//ChamberMaster//Event Calendar 2.0//EN
METHOD:PUBLISH
X-PUBLISHED-TTL:P3D
REFRESH-INTERVAL:P3D
CALSCALE:GREGORIAN
BEGIN:VEVENT
DTSTART:20140417T230000Z
DTEND:20140418T020000Z
X-MICROSOFT-CDO-ALLDAYEVENT:FALSE
SUMMARY:CASH MOB - We're mobbing Bailey!
DESCRIPTION:Join in the fun of a CASH MOB! Support your local businesses by pledging to spend $20 in downtown Bailey. We'll meet at Aspen Peak Cellars (parking available near Rustic Station) and then move on to other businesses in the other. This a fun group shopping experience so don't miss out!  \n\n\n\nVisit the following participating stores for great specials\, refreshments\, and chances to enter drawings for door prizes:\n\n\n\nAspen Peak Cellars \n\nRustic Station\n\nRiver Canyon Art Gallery\n\nCutthroat Cafe\n\nMountain Peace Boutique\n\nMoore Lumber & Ace Hardware\n\nBailey Garden Center\n\nBailey Country Store\n\nThe Knotty Pine\n\nDelwood Square and more!
X-ALT-DESC;FMTTYPE=text/html:Join in the fun of a CASH MOB! Support your local businesses by pledging to spend $20 in downtown Bailey. We&#39\;ll meet at Aspen Peak Cellars (parking available near Rustic Station) and then move on to other businesses in the other. This a fun group shopping experience so don&#39\;t miss out!&#8203\;<span style="font-family:arial\;">&nbsp\;<br />\n<br />\nVisit the following participating stores for great specials\, refreshments\, and chances to enter drawings for door prizes:<br />\n<br />\n<span style="color: rgb(34\, 34\, 34)\; line-height: normal\;">Aspen Peak Cellars&nbsp\;</span><br style="color: rgb(34\, 34\, 34)\; font-family: arial\, sans-serif\; line-height: normal\;" />\n<span style="color: rgb(34\, 34\, 34)\; line-height: normal\;">Rustic Station</span><br style="color: rgb(34\, 34\, 34)\; font-family: arial\, sans-serif\; line-height: normal\;" />\n<span style="color: rgb(34\, 34\, 34)\; line-height: normal\;">River Canyon Art Gallery</span><br style="color: rgb(34\, 34\, 34)\; font-family: arial\, sans-serif\; line-height: normal\;" />\n<span style="color: rgb(34\, 34\, 34)\; line-height: normal\;">Cutthroat Cafe</span><br style="color: rgb(34\, 34\, 34)\; font-family: arial\, sans-serif\; line-height: normal\;" />\n<span style="color: rgb(34\, 34\, 34)\; line-height: normal\;">Mountain Peace Boutique</span><br style="color: rgb(34\, 34\, 34)\; font-family: arial\, sans-serif\; line-height: normal\;" />\n<span style="color: rgb(34\, 34\, 34)\; line-height: normal\;">Moore Lumber &amp\; Ace Hardware</span><br style="color: rgb(34\, 34\, 34)\; font-family: arial\, sans-serif\; line-height: normal\;" />\n<span style="color: rgb(34\, 34\, 34)\; line-height: normal\;">Bailey Garden Center</span><br style="color: rgb(34\, 34\, 34)\; font-family: arial\, sans-serif\; line-height: normal\;" />\n<span style="color: rgb(34\, 34\, 34)\; line-height: normal\;">Bailey Country Store</span><br style="color: rgb(34\, 34\, 34)\; font-family: arial\, sans-serif\; line-height: normal\;" />\n<span style="color: rgb(34\, 34\, 34)\; line-height: normal\;">The Knotty Pine</span><br style="color: rgb(34\, 34\, 34)\; font-family: arial\, sans-serif\; line-height: normal\;" />\n<span style="color: rgb(34\, 34\, 34)\; line-height: normal\;">Delwood Square and more!</span></span><br />\n&nbsp\;
LOCATION:Downtown Bailey - Meet at Aspen Peak Cellars at 5:00 pm. Please park in the parking area near Rustic Station.
UID:e.692.2904
SEQUENCE:3
DTSTAMP:20260423T143523Z
URL:https://business.goconifer.com/events/details/cash-mob-we-re-mobbing-bailey-04-17-2014-2904
END:VEVENT

END:VCALENDAR
