BEGIN:VCALENDAR
VERSION:2.0
PRODID:-//ChamberMaster//Event Calendar 2.0//EN
METHOD:PUBLISH
X-PUBLISHED-TTL:P3D
REFRESH-INTERVAL:P3D
CALSCALE:GREGORIAN
BEGIN:VEVENT
DTSTART:20131120T230000Z
DTEND:20131121T010000Z
X-MICROSOFT-CDO-ALLDAYEVENT:FALSE
SUMMARY:Cash Mob for Luna's Mandala
DESCRIPTION:Join us for shopping and networking at Luna's Mandala!\n\nWe invite you to spend $10 at this Cash Mob.
X-ALT-DESC;FMTTYPE=text/html:Join us for shopping and networking at Luna&#39\;s Mandala!<br />\nWe invite you to spend $10 at this Cash Mob.
LOCATION:Luna's Mandala Gifts Aspen Park Village2 5797 Conifer Rd. #B-204 Conifer\, CO 80433 (720) 937-4217
UID:e.692.1595
SEQUENCE:3
DTSTAMP:20260423T212534Z
URL:https://business.goconifer.com/events/details/cash-mob-for-luna-s-mandala-11-20-2013-1595
END:VEVENT

END:VCALENDAR
