BEGIN:VCALENDAR
VERSION:2.0
PRODID:-//ChamberMaster//Event Calendar 2.0//EN
METHOD:PUBLISH
X-PUBLISHED-TTL:P3D
REFRESH-INTERVAL:P3D
CALSCALE:GREGORIAN
BEGIN:VEVENT
DTSTART:20131203T230000Z
DTEND:20131204T010000Z
X-MICROSOFT-CDO-ALLDAYEVENT:FALSE
SUMMARY:Caregiver Survival Skills Workshop: Medical and Legal Issues
DESCRIPTION:Free 'medical and legal issues' program for caregivers of Alzheimer's patients   Dec. 3\n\n\n\nCaregiver Survival Skills is a free educational series presented by the Mountain Caregivers Resource Group. Decembers's topic\, "Medical and Legal Issues\," will be presented by Dave Hoppe of the Alzheimer's Association Colorado.\n\n\n\nThe free seminar will be held from 4:00 to 6:00 p.m. on Tuesday\, December 3\, at the Evergreen Fire & Rescue Administration Building\, 1802 Bergen Parkway\, Evergreen.\n\n\n\nReservations are recommended. For more information or to RSVP\, call 303-674-6400.\n\n\n\nAbout the Mountain Caregivers Resource Group\n\nThe Mountain Caregivers Resource Group consists of representatives from Mt. Evans Hospice & Home Health Care\, the Seniors' Resource Center-Evergreen\, Elk Run Assisted Living\, and Life Care Center of Evergreen.
X-ALT-DESC;FMTTYPE=text/html:<strong>Free &lsquo\;medical and legal issues&rsquo\; program for caregivers of Alzheimer&rsquo\;s patients &ndash\; Dec. 3</strong><br />\n<br />\nCaregiver Survival Skills is a free educational series presented by the Mountain Caregivers Resource Group. Decembers&rsquo\;s topic\, &ldquo\;Medical and Legal Issues\,&rdquo\; will be presented by Dave Hoppe of the Alzheimer&rsquo\;s Association Colorado.<br />\n<br />\nThe free seminar will be held from 4:00 to 6:00 p.m. on Tuesday\, December 3\, at the Evergreen Fire &amp\; Rescue Administration Building\, 1802 Bergen Parkway\, Evergreen.<br />\n<br />\nReservations are recommended. For more information or to RSVP\, call 303-674-6400.<br />\n<br />\n<strong>About the Mountain Caregivers Resource Group</strong><br />\nThe Mountain Caregivers Resource Group consists of representatives from Mt. Evans Hospice &amp\; Home Health Care\, the Seniors&rsquo\; Resource Center-Evergreen\, Elk Run Assisted Living\, and Life Care Center of Evergreen.
LOCATION:Evergreen Fire & Rescue Administration Building 1802 Bergen Parkway\, Evergreen\, CO 80439
UID:e.692.1590
SEQUENCE:3
DTSTAMP:20260423T201137Z
URL:https://business.goconifer.com/events/details/caregiver-survival-skills-workshop-medical-and-legal-issues-12-03-2013-1590
END:VEVENT

END:VCALENDAR
