BEGIN:VCALENDAR
VERSION:2.0
PRODID:-//ChamberMaster//Event Calendar 2.0//EN
METHOD:PUBLISH
X-PUBLISHED-TTL:P3D
REFRESH-INTERVAL:P3D
CALSCALE:GREGORIAN
BEGIN:VEVENT
DTSTART:20141028T220000Z
DTEND:20141029T000000Z
X-MICROSOFT-CDO-ALLDAYEVENT:FALSE
SUMMARY:Caregiver Survival Skills Free Seminar
DESCRIPTION:Caregiver Survival Skills is a free educational series presented by the Mountain Caregivers Resource Group. October's topic\, "Successful Communication for Caregivers\," will be presented by a representative of the Alzheimer's Association of Colorado.\n\n\n\nAbout the Mountain Caregivers Resource Group\n\nThe Mountain Caregivers Resource Group consists of representatives from Mount Evans Home Health Care & Hospice\, the Seniors' Resource Center-Evergreen\, Elk Run Assisted Living\, and Life Care Center of Evergreen.
X-ALT-DESC;FMTTYPE=text/html:<strong><span style="font-family:times new roman\,serif\;"><span style="font-size:12pt\;">Caregiver Survival Skills</span></span></strong><span style="font-family:times new roman\,serif\;"><span style="font-size:12pt\;">&nbsp\;is a free educational series presented by the Mountain Caregivers Resource Group. October&rsquo\;s topic\, <strong>&quot\;Successful Communication for Caregivers\,&rdquo\;</strong> will be presented by a representative of the Alzheimer&rsquo\;s Association of Colorado</span></span><span style="font-family:times new roman\,serif\;"><span style="font-size:12pt\;">.</span></span><br />\n<br />\n<strong><span style="font-family:times new roman\,serif\;"><span style="font-size:12pt\;">About the Mountain Caregivers Resource Group</span></span></strong><br />\n<span style="font-family:times new roman\,serif\;"><span style="font-size:12pt\;">The Mountain Caregivers Resource Group consists of representatives from Mount Evans Home Health Care &amp\; Hospice\, the Seniors&rsquo\; Resource Center-Evergreen\, Elk Run Assisted Living\, and Life Care Center of Evergreen.</span></span><br />\n&nbsp\;
LOCATION:Evergreen Fire & Rescue Administration Building\, 1802 Bergen Parkway\, Evergreen.
UID:e.692.3404
SEQUENCE:3
DTSTAMP:20260423T080320Z
URL:https://business.goconifer.com/events/details/caregiver-survival-skills-free-seminar-10-28-2014-3404
END:VEVENT

END:VCALENDAR
