BEGIN:VCALENDAR
VERSION:2.0
PRODID:-//ChamberMaster//Event Calendar 2.0//EN
METHOD:PUBLISH
X-PUBLISHED-TTL:P3D
REFRESH-INTERVAL:P3D
CALSCALE:GREGORIAN
BEGIN:VEVENT
DTSTART;VALUE=DATE:20140628
DTEND;VALUE=DATE:20140629
TRANSP:TRANSPARENT
X-MICROSOFT-CDO-ALLDAYEVENT:TRUE
SUMMARY:Camp Comfort - Mt Evans Home Health & Hospice
DESCRIPTION:Mt. Evans Home Health & Hospice has announced dates for its two 2014 Camp Comfort sessions: June 27-29 and July 25-27. This award-winning bereavement camp\, located in the Rocky Mountains just west of Denver\, is a way for children ages 6 to 12 to explore their feelings of grief and share memories of their loved ones. Over a thousand children have attended Camp Comfort since its establishment in 1995.\n\n \n\nDuring this extraordinary weekend\, children learn ways to cope with their grief through workshops led by licensed social workers and trained bereavement professionals. A volunteer "buddy" system (with no more than two children to one adult) ensures that children receive plenty of personal\, one-on-one attention. And\, while children are encouraged to share memories and express their grief\, Camp Comfort offers fun\, too. The daily itinerary includes plenty of opportunities for recreation including swimming\, horseback riding\, arts and crafts\, fishing\, and hiking.
X-ALT-DESC;FMTTYPE=text/html:Mt. Evans Home Health &amp\; Hospice has announced dates for its two 2014 Camp Comfort sessions: June 27-29 and July 25-27. This award-winning bereavement camp\, located in the Rocky Mountains just west of Denver\, is a way for children ages 6 to 12 to explore their feelings of grief and share memories of their loved ones. Over a thousand children have attended Camp Comfort since its establishment in 1995.<br />\n&nbsp\;<br />\nDuring this extraordinary weekend\, children learn ways to cope with their grief through workshops led by licensed social workers and trained bereavement professionals. A volunteer &ldquo\;buddy&rdquo\; system (with no more than two children to one adult) ensures that children receive plenty of personal\, one-on-one attention. And\, while children are encouraged to share memories and express their grief\, Camp Comfort offers fun\, too. The daily itinerary includes plenty of opportunities for recreation including swimming\, horseback riding\, arts and crafts\, fishing\, and hiking.
LOCATION:Evergreen\, Colorado For more information or to receive a brochure\, visit the Camp Comfort website at www.CampComfort.org
UID:e.692.2902
SEQUENCE:3
DTSTAMP:20260423T121237Z
URL:https://business.goconifer.com/events/details/camp-comfort-mt-evans-home-health-hospice-06-28-2014-2902
END:VEVENT

END:VCALENDAR
